BEGIN:VCALENDAR
VERSION:2.0
PRODID:-//社会福祉法人 入間福祉会 - ECPv6.15.5//NONSGML v1.0//EN
CALSCALE:GREGORIAN
METHOD:PUBLISH
X-ORIGINAL-URL:https://www.iruma-oogi.or.jp
X-WR-CALDESC:社会福祉法人 入間福祉会 のイベント
REFRESH-INTERVAL;VALUE=DURATION:PT1H
X-Robots-Tag:noindex
X-PUBLISHED-TTL:PT1H
BEGIN:VTIMEZONE
TZID:Asia/Tokyo
BEGIN:STANDARD
TZOFFSETFROM:+0900
TZOFFSETTO:+0900
TZNAME:JST
DTSTART:20260101T000000
END:STANDARD
END:VTIMEZONE
BEGIN:VEVENT
DTSTART;VALUE=DATE:20260504
DTEND;VALUE=DATE:20260506
DTSTAMP:20260423T075434
CREATED:20260301T234610Z
LAST-MODIFIED:20260331T070242Z
UID:1177-1777852800-1778025599@www.iruma-oogi.or.jp
SUMMARY:おおぎショートステイ　満室
DESCRIPTION:
URL:https://www.iruma-oogi.or.jp/event/tribe_events-1177/
CATEGORIES:おおぎショートステイ[満室]
END:VEVENT
BEGIN:VEVENT
DTSTART;VALUE=DATE:20260505
DTEND;VALUE=DATE:20260506
DTSTAMP:20260423T075434
CREATED:20260302T051141Z
LAST-MODIFIED:20260407T015306Z
UID:1251-1777939200-1778025599@www.iruma-oogi.or.jp
SUMMARY:扇揚苑ショートステイ　相談
DESCRIPTION:
URL:https://www.iruma-oogi.or.jp/event/tribe_events-1251/
CATEGORIES:扇揚苑ショートステイ[相談]
END:VEVENT
BEGIN:VEVENT
DTSTART;VALUE=DATE:20260506
DTEND;VALUE=DATE:20260507
DTSTAMP:20260423T075434
CREATED:20260331T070412Z
LAST-MODIFIED:20260331T071137Z
UID:1485-1778025600-1778111999@www.iruma-oogi.or.jp
SUMMARY:おおぎショートステイ　相談
DESCRIPTION:
URL:https://www.iruma-oogi.or.jp/event/tribe_events-1485/
CATEGORIES:おおぎショートステイ[相談]
END:VEVENT
BEGIN:VEVENT
DTSTART;VALUE=DATE:20260506
DTEND;VALUE=DATE:20260507
DTSTAMP:20260423T075434
CREATED:20260407T015338Z
LAST-MODIFIED:20260407T015338Z
UID:1600-1778025600-1778111999@www.iruma-oogi.or.jp
SUMMARY:扇揚苑ショートステイ　満室
DESCRIPTION:
URL:https://www.iruma-oogi.or.jp/event/tribe_events-1600/
CATEGORIES:扇揚苑ショートステイ[満室]
END:VEVENT
BEGIN:VEVENT
DTSTART;VALUE=DATE:20260507
DTEND;VALUE=DATE:20260516
DTSTAMP:20260423T075434
CREATED:20260301T234634Z
LAST-MODIFIED:20260331T071201Z
UID:1179-1778112000-1778889599@www.iruma-oogi.or.jp
SUMMARY:おおぎショートステイ　空きあり
DESCRIPTION:
URL:https://www.iruma-oogi.or.jp/event/tribe_events-1179/
CATEGORIES:おおぎショートステイ[空きあり]
END:VEVENT
BEGIN:VEVENT
DTSTART;VALUE=DATE:20260507
DTEND;VALUE=DATE:20260518
DTSTAMP:20260423T075434
CREATED:20260302T051530Z
LAST-MODIFIED:20260421T020222Z
UID:1257-1778112000-1779062399@www.iruma-oogi.or.jp
SUMMARY:扇揚苑ショートステイ　空きあり
DESCRIPTION:
URL:https://www.iruma-oogi.or.jp/event/tribe_events-1257/
CATEGORIES:扇揚苑ショートステイ[空きあり]
END:VEVENT
BEGIN:VEVENT
DTSTART;VALUE=DATE:20260516
DTEND;VALUE=DATE:20260517
DTSTAMP:20260423T075434
CREATED:20260301T234654Z
LAST-MODIFIED:20260331T070452Z
UID:1181-1778889600-1778975999@www.iruma-oogi.or.jp
SUMMARY:おおぎショートステイ　満室
DESCRIPTION:
URL:https://www.iruma-oogi.or.jp/event/tribe_events-1181/
CATEGORIES:おおぎショートステイ[満室]
END:VEVENT
BEGIN:VEVENT
DTSTART;VALUE=DATE:20260517
DTEND;VALUE=DATE:20260518
DTSTAMP:20260423T075434
CREATED:20260301T234712Z
LAST-MODIFIED:20260331T070524Z
UID:1183-1778976000-1779062399@www.iruma-oogi.or.jp
SUMMARY:おおぎショートステイ　相談
DESCRIPTION:
URL:https://www.iruma-oogi.or.jp/event/tribe_events-1183/
CATEGORIES:おおぎショートステイ[相談]
END:VEVENT
BEGIN:VEVENT
DTSTART;VALUE=DATE:20260518
DTEND;VALUE=DATE:20260519
DTSTAMP:20260423T075434
CREATED:20260301T234749Z
LAST-MODIFIED:20260331T070555Z
UID:1185-1779062400-1779148799@www.iruma-oogi.or.jp
SUMMARY:おおぎショートステイ　満室
DESCRIPTION:
URL:https://www.iruma-oogi.or.jp/event/tribe_events-1185/
CATEGORIES:おおぎショートステイ[満室]
END:VEVENT
BEGIN:VEVENT
DTSTART;VALUE=DATE:20260518
DTEND;VALUE=DATE:20260521
DTSTAMP:20260423T075434
CREATED:20260316T001547Z
LAST-MODIFIED:20260421T020301Z
UID:1329-1779062400-1779321599@www.iruma-oogi.or.jp
SUMMARY:扇揚苑ショートステイ　相談
DESCRIPTION:
URL:https://www.iruma-oogi.or.jp/event/tribe_events-1329/
CATEGORIES:扇揚苑ショートステイ[相談]
END:VEVENT
BEGIN:VEVENT
DTSTART;VALUE=DATE:20260519
DTEND;VALUE=DATE:20260520
DTSTAMP:20260423T075434
CREATED:20260421T023251Z
LAST-MODIFIED:20260421T023251Z
UID:1832-1779148800-1779235199@www.iruma-oogi.or.jp
SUMMARY:おおぎショートステイ　相談
DESCRIPTION:
URL:https://www.iruma-oogi.or.jp/event/tribe_events-1832/
CATEGORIES:おおぎショートステイ[相談]
END:VEVENT
BEGIN:VEVENT
DTSTART;VALUE=DATE:20260520
DTEND;VALUE=DATE:20260523
DTSTAMP:20260423T075434
CREATED:20260301T234811Z
LAST-MODIFIED:20260421T023200Z
UID:1187-1779235200-1779494399@www.iruma-oogi.or.jp
SUMMARY:おおぎショートステイ　空きあり
DESCRIPTION:
URL:https://www.iruma-oogi.or.jp/event/tribe_events-1187/
CATEGORIES:おおぎショートステイ[空きあり]
END:VEVENT
BEGIN:VEVENT
DTSTART;VALUE=DATE:20260521
DTEND;VALUE=DATE:20260523
DTSTAMP:20260423T075434
CREATED:20260302T051630Z
LAST-MODIFIED:20260316T001702Z
UID:1261-1779321600-1779494399@www.iruma-oogi.or.jp
SUMMARY:扇揚苑ショートステイ　空きあり
DESCRIPTION:
URL:https://www.iruma-oogi.or.jp/event/tribe_events-1261/
CATEGORIES:扇揚苑ショートステイ[空きあり]
END:VEVENT
BEGIN:VEVENT
DTSTART;VALUE=DATE:20260523
DTEND;VALUE=DATE:20260524
DTSTAMP:20260423T075434
CREATED:20260316T001801Z
LAST-MODIFIED:20260407T015746Z
UID:1332-1779494400-1779580799@www.iruma-oogi.or.jp
SUMMARY:扇揚苑ショートステイ　相談
DESCRIPTION:
URL:https://www.iruma-oogi.or.jp/event/tribe_events-1332/
CATEGORIES:扇揚苑ショートステイ[相談]
END:VEVENT
BEGIN:VEVENT
DTSTART;VALUE=DATE:20260523
DTEND;VALUE=DATE:20260524
DTSTAMP:20260423T075434
CREATED:20260421T023337Z
LAST-MODIFIED:20260421T023337Z
UID:1836-1779494400-1779580799@www.iruma-oogi.or.jp
SUMMARY:おおぎショートステイ　相談
DESCRIPTION:
URL:https://www.iruma-oogi.or.jp/event/tribe_events-1836/
CATEGORIES:おおぎショートステイ[相談]
END:VEVENT
BEGIN:VEVENT
DTSTART;VALUE=DATE:20260524
DTEND;VALUE=DATE:20260525
DTSTAMP:20260423T075434
CREATED:20260407T015836Z
LAST-MODIFIED:20260407T015836Z
UID:1613-1779580800-1779667199@www.iruma-oogi.or.jp
SUMMARY:扇揚苑ショートステイ　空きあり
DESCRIPTION:
URL:https://www.iruma-oogi.or.jp/event/tribe_events-1613/
CATEGORIES:扇揚苑ショートステイ[空きあり]
END:VEVENT
BEGIN:VEVENT
DTSTART;VALUE=DATE:20260524
DTEND;VALUE=DATE:20260526
DTSTAMP:20260423T075434
CREATED:20260421T023442Z
LAST-MODIFIED:20260421T023442Z
UID:1840-1779580800-1779753599@www.iruma-oogi.or.jp
SUMMARY:おおぎショートステイ　満室
DESCRIPTION:
URL:https://www.iruma-oogi.or.jp/event/tribe_events-1840/
CATEGORIES:おおぎショートステイ[満室]
END:VEVENT
BEGIN:VEVENT
DTSTART;VALUE=DATE:20260525
DTEND;VALUE=DATE:20260528
DTSTAMP:20260423T075434
CREATED:20260302T051650Z
LAST-MODIFIED:20260421T020358Z
UID:1263-1779667200-1779926399@www.iruma-oogi.or.jp
SUMMARY:扇揚苑ショートステイ　満室
DESCRIPTION:
URL:https://www.iruma-oogi.or.jp/event/tribe_events-1263/
CATEGORIES:扇揚苑ショートステイ[満室]
END:VEVENT
BEGIN:VEVENT
DTSTART;VALUE=DATE:20260526
DTEND;VALUE=DATE:20260527
DTSTAMP:20260423T075434
CREATED:20260331T070712Z
LAST-MODIFIED:20260421T023410Z
UID:1492-1779753600-1779839999@www.iruma-oogi.or.jp
SUMMARY:おおぎショートステイ　相談
DESCRIPTION:
URL:https://www.iruma-oogi.or.jp/event/tribe_events-1492/
CATEGORIES:おおぎショートステイ[相談]
END:VEVENT
BEGIN:VEVENT
DTSTART;VALUE=DATE:20260527
DTEND;VALUE=DATE:20260528
DTSTAMP:20260423T075434
CREATED:20260331T070808Z
LAST-MODIFIED:20260331T070808Z
UID:1494-1779840000-1779926399@www.iruma-oogi.or.jp
SUMMARY:おおぎショートステイ　満室
DESCRIPTION:
URL:https://www.iruma-oogi.or.jp/event/tribe_events-1494/
CATEGORIES:おおぎショートステイ[満室]
END:VEVENT
BEGIN:VEVENT
DTSTART;VALUE=DATE:20260528
DTEND;VALUE=DATE:20260529
DTSTAMP:20260423T075434
CREATED:20260407T020125Z
LAST-MODIFIED:20260421T020444Z
UID:1617-1779926400-1780012799@www.iruma-oogi.or.jp
SUMMARY:扇揚苑ショートステイ　相談
DESCRIPTION:
URL:https://www.iruma-oogi.or.jp/event/tribe_events-1617/
CATEGORIES:扇揚苑ショートステイ[相談]
END:VEVENT
BEGIN:VEVENT
DTSTART;VALUE=DATE:20260528
DTEND;VALUE=DATE:20260531
DTSTAMP:20260423T075434
CREATED:20260331T070847Z
LAST-MODIFIED:20260331T071815Z
UID:1496-1779926400-1780185599@www.iruma-oogi.or.jp
SUMMARY:おおぎショートステイ　空きあり
DESCRIPTION:
URL:https://www.iruma-oogi.or.jp/event/tribe_events-1496/
CATEGORIES:おおぎショートステイ[空きあり]
END:VEVENT
BEGIN:VEVENT
DTSTART;VALUE=DATE:20260529
DTEND;VALUE=DATE:20260530
DTSTAMP:20260423T075434
CREATED:20260421T020617Z
LAST-MODIFIED:20260421T020725Z
UID:1799-1780012800-1780099199@www.iruma-oogi.or.jp
SUMMARY:扇揚苑ショートステイ　満室
DESCRIPTION:
URL:https://www.iruma-oogi.or.jp/event/tribe_events-1799/
CATEGORIES:扇揚苑ショートステイ[満室]
END:VEVENT
BEGIN:VEVENT
DTSTART;VALUE=DATE:20260530
DTEND;VALUE=DATE:20260531
DTSTAMP:20260423T075434
CREATED:20260421T020547Z
LAST-MODIFIED:20260421T020923Z
UID:1795-1780099200-1780185599@www.iruma-oogi.or.jp
SUMMARY:扇揚苑ショートステイ　空きあり
DESCRIPTION:
URL:https://www.iruma-oogi.or.jp/event/tribe_events-1795/
CATEGORIES:扇揚苑ショートステイ[空きあり]
END:VEVENT
BEGIN:VEVENT
DTSTART;VALUE=DATE:20260531
DTEND;VALUE=DATE:20260601
DTSTAMP:20260423T075434
CREATED:20260331T071904Z
LAST-MODIFIED:20260331T071904Z
UID:1505-1780185600-1780271999@www.iruma-oogi.or.jp
SUMMARY:おおぎショートステイ　相談
DESCRIPTION:
URL:https://www.iruma-oogi.or.jp/event/tribe_events-1505/
CATEGORIES:おおぎショートステイ[相談]
END:VEVENT
BEGIN:VEVENT
DTSTART;VALUE=DATE:20260531
DTEND;VALUE=DATE:20260601
DTSTAMP:20260423T075434
CREATED:20260407T020154Z
LAST-MODIFIED:20260407T020154Z
UID:1621-1780185600-1780271999@www.iruma-oogi.or.jp
SUMMARY:扇揚苑ショートステイ　相談
DESCRIPTION:
URL:https://www.iruma-oogi.or.jp/event/tribe_events-1621/
CATEGORIES:扇揚苑ショートステイ[相談]
END:VEVENT
BEGIN:VEVENT
DTSTART;VALUE=DATE:20260601
DTEND;VALUE=DATE:20260602
DTSTAMP:20260423T075434
CREATED:20260316T002355Z
LAST-MODIFIED:20260316T002355Z
UID:1335-1780272000-1780358399@www.iruma-oogi.or.jp
SUMMARY:扇揚苑ショートステイ　満室
DESCRIPTION:
URL:https://www.iruma-oogi.or.jp/event/tribe_events-1335/
CATEGORIES:扇揚苑ショートステイ[満室]
END:VEVENT
BEGIN:VEVENT
DTSTART;VALUE=DATE:20260601
DTEND;VALUE=DATE:20260603
DTSTAMP:20260423T075434
CREATED:20260331T072142Z
LAST-MODIFIED:20260421T024048Z
UID:1507-1780272000-1780444799@www.iruma-oogi.or.jp
SUMMARY:おおぎショートステイ　満室
DESCRIPTION:
URL:https://www.iruma-oogi.or.jp/event/tribe_events-1507/
CATEGORIES:おおぎショートステイ[満室]
END:VEVENT
BEGIN:VEVENT
DTSTART;VALUE=DATE:20260602
DTEND;VALUE=DATE:20260604
DTSTAMP:20260423T075434
CREATED:20260316T002430Z
LAST-MODIFIED:20260407T021346Z
UID:1337-1780358400-1780531199@www.iruma-oogi.or.jp
SUMMARY:扇揚苑ショートステイ　相談
DESCRIPTION:
URL:https://www.iruma-oogi.or.jp/event/tribe_events-1337/
CATEGORIES:扇揚苑ショートステイ[相談]
END:VEVENT
BEGIN:VEVENT
DTSTART;VALUE=DATE:20260603
DTEND;VALUE=DATE:20260606
DTSTAMP:20260423T075434
CREATED:20260331T072326Z
LAST-MODIFIED:20260421T024118Z
UID:1511-1780444800-1780703999@www.iruma-oogi.or.jp
SUMMARY:おおぎショートステイ　空きあり
DESCRIPTION:
URL:https://www.iruma-oogi.or.jp/event/tribe_events-1511/
CATEGORIES:おおぎショートステイ[空きあり]
END:VEVENT
END:VCALENDAR