BEGIN:VCALENDAR
VERSION:2.0
PRODID:-//社会福祉法人 入間福祉会 - ECPv6.15.5//NONSGML v1.0//EN
CALSCALE:GREGORIAN
METHOD:PUBLISH
X-ORIGINAL-URL:https://www.iruma-oogi.or.jp
X-WR-CALDESC:社会福祉法人 入間福祉会 のイベント
REFRESH-INTERVAL;VALUE=DURATION:PT1H
X-Robots-Tag:noindex
X-PUBLISHED-TTL:PT1H
BEGIN:VTIMEZONE
TZID:Asia/Tokyo
BEGIN:STANDARD
TZOFFSETFROM:+0900
TZOFFSETTO:+0900
TZNAME:JST
DTSTART:20260101T000000
END:STANDARD
END:VTIMEZONE
BEGIN:VEVENT
DTSTART;VALUE=DATE:20260322
DTEND;VALUE=DATE:20260324
DTSTAMP:20260422T210838
CREATED:20260216T235544Z
LAST-MODIFIED:20260302T044931Z
UID:1098-1774137600-1774310399@www.iruma-oogi.or.jp
SUMMARY:扇揚苑ショートステイ　相談
DESCRIPTION:
URL:https://www.iruma-oogi.or.jp/event/tribe_events-1098/
CATEGORIES:扇揚苑ショートステイ[相談]
END:VEVENT
BEGIN:VEVENT
DTSTART;VALUE=DATE:20260328
DTEND;VALUE=DATE:20260331
DTSTAMP:20260422T210838
CREATED:20260216T235704Z
LAST-MODIFIED:20260302T045005Z
UID:1104-1774656000-1774915199@www.iruma-oogi.or.jp
SUMMARY:扇揚苑ショートステイ　相談
DESCRIPTION:
URL:https://www.iruma-oogi.or.jp/event/tribe_events-1104/
CATEGORIES:扇揚苑ショートステイ[相談]
END:VEVENT
BEGIN:VEVENT
DTSTART;VALUE=DATE:20260406
DTEND;VALUE=DATE:20260408
DTSTAMP:20260422T210838
CREATED:20260203T025336Z
LAST-MODIFIED:20260407T013125Z
UID:994-1775433600-1775606399@www.iruma-oogi.or.jp
SUMMARY:扇揚苑ショートステイ　相談
DESCRIPTION:
URL:https://www.iruma-oogi.or.jp/event/tribe_events-994/
CATEGORIES:扇揚苑ショートステイ[相談]
END:VEVENT
BEGIN:VEVENT
DTSTART;VALUE=DATE:20260409
DTEND;VALUE=DATE:20260410
DTSTAMP:20260422T210838
CREATED:20260407T013519Z
LAST-MODIFIED:20260407T013519Z
UID:1571-1775692800-1775779199@www.iruma-oogi.or.jp
SUMMARY:扇揚苑ショートステイ　相談
DESCRIPTION:
URL:https://www.iruma-oogi.or.jp/event/tribe_events-1571/
CATEGORIES:扇揚苑ショートステイ[相談]
END:VEVENT
BEGIN:VEVENT
DTSTART;VALUE=DATE:20260414
DTEND;VALUE=DATE:20260415
DTSTAMP:20260422T210838
CREATED:20260407T014446Z
LAST-MODIFIED:20260407T014446Z
UID:1586-1776124800-1776211199@www.iruma-oogi.or.jp
SUMMARY:扇揚苑ショートステイ　相談
DESCRIPTION:
URL:https://www.iruma-oogi.or.jp/event/tribe_events-1586/
CATEGORIES:扇揚苑ショートステイ[相談]
END:VEVENT
BEGIN:VEVENT
DTSTART;VALUE=DATE:20260418
DTEND;VALUE=DATE:20260420
DTSTAMP:20260422T210838
CREATED:20260316T000840Z
LAST-MODIFIED:20260316T000840Z
UID:1317-1776470400-1776643199@www.iruma-oogi.or.jp
SUMMARY:扇揚苑ショートステイ　相談
DESCRIPTION:
URL:https://www.iruma-oogi.or.jp/event/tribe_events-1317/
CATEGORIES:扇揚苑ショートステイ[相談]
END:VEVENT
BEGIN:VEVENT
DTSTART;VALUE=DATE:20260422
DTEND;VALUE=DATE:20260423
DTSTAMP:20260422T210838
CREATED:20260217T000315Z
LAST-MODIFIED:20260421T015124Z
UID:1118-1776816000-1776902399@www.iruma-oogi.or.jp
SUMMARY:扇揚苑ショートステイ　相談
DESCRIPTION:
URL:https://www.iruma-oogi.or.jp/event/tribe_events-1118/
CATEGORIES:扇揚苑ショートステイ[相談]
END:VEVENT
BEGIN:VEVENT
DTSTART;VALUE=DATE:20260428
DTEND;VALUE=DATE:20260429
DTSTAMP:20260422T210838
CREATED:20260421T015504Z
LAST-MODIFIED:20260421T015504Z
UID:1789-1777334400-1777420799@www.iruma-oogi.or.jp
SUMMARY:扇揚苑ショートステイ　相談
DESCRIPTION:
URL:https://www.iruma-oogi.or.jp/event/tribe_events-1789/
CATEGORIES:扇揚苑ショートステイ[相談]
END:VEVENT
BEGIN:VEVENT
DTSTART;VALUE=DATE:20260502
DTEND;VALUE=DATE:20260503
DTSTAMP:20260422T210838
CREATED:20260316T001308Z
LAST-MODIFIED:20260407T015122Z
UID:1325-1777680000-1777766399@www.iruma-oogi.or.jp
SUMMARY:扇揚苑ショートステイ　相談
DESCRIPTION:
URL:https://www.iruma-oogi.or.jp/event/tribe_events-1325/
CATEGORIES:扇揚苑ショートステイ[相談]
END:VEVENT
BEGIN:VEVENT
DTSTART;VALUE=DATE:20260505
DTEND;VALUE=DATE:20260506
DTSTAMP:20260422T210838
CREATED:20260302T051141Z
LAST-MODIFIED:20260407T015306Z
UID:1251-1777939200-1778025599@www.iruma-oogi.or.jp
SUMMARY:扇揚苑ショートステイ　相談
DESCRIPTION:
URL:https://www.iruma-oogi.or.jp/event/tribe_events-1251/
CATEGORIES:扇揚苑ショートステイ[相談]
END:VEVENT
BEGIN:VEVENT
DTSTART;VALUE=DATE:20260518
DTEND;VALUE=DATE:20260521
DTSTAMP:20260422T210838
CREATED:20260316T001547Z
LAST-MODIFIED:20260421T020301Z
UID:1329-1779062400-1779321599@www.iruma-oogi.or.jp
SUMMARY:扇揚苑ショートステイ　相談
DESCRIPTION:
URL:https://www.iruma-oogi.or.jp/event/tribe_events-1329/
CATEGORIES:扇揚苑ショートステイ[相談]
END:VEVENT
BEGIN:VEVENT
DTSTART;VALUE=DATE:20260523
DTEND;VALUE=DATE:20260524
DTSTAMP:20260422T210838
CREATED:20260316T001801Z
LAST-MODIFIED:20260407T015746Z
UID:1332-1779494400-1779580799@www.iruma-oogi.or.jp
SUMMARY:扇揚苑ショートステイ　相談
DESCRIPTION:
URL:https://www.iruma-oogi.or.jp/event/tribe_events-1332/
CATEGORIES:扇揚苑ショートステイ[相談]
END:VEVENT
BEGIN:VEVENT
DTSTART;VALUE=DATE:20260528
DTEND;VALUE=DATE:20260529
DTSTAMP:20260422T210838
CREATED:20260407T020125Z
LAST-MODIFIED:20260421T020444Z
UID:1617-1779926400-1780012799@www.iruma-oogi.or.jp
SUMMARY:扇揚苑ショートステイ　相談
DESCRIPTION:
URL:https://www.iruma-oogi.or.jp/event/tribe_events-1617/
CATEGORIES:扇揚苑ショートステイ[相談]
END:VEVENT
BEGIN:VEVENT
DTSTART;VALUE=DATE:20260531
DTEND;VALUE=DATE:20260601
DTSTAMP:20260422T210838
CREATED:20260407T020154Z
LAST-MODIFIED:20260407T020154Z
UID:1621-1780185600-1780271999@www.iruma-oogi.or.jp
SUMMARY:扇揚苑ショートステイ　相談
DESCRIPTION:
URL:https://www.iruma-oogi.or.jp/event/tribe_events-1621/
CATEGORIES:扇揚苑ショートステイ[相談]
END:VEVENT
BEGIN:VEVENT
DTSTART;VALUE=DATE:20260602
DTEND;VALUE=DATE:20260604
DTSTAMP:20260422T210838
CREATED:20260316T002430Z
LAST-MODIFIED:20260407T021346Z
UID:1337-1780358400-1780531199@www.iruma-oogi.or.jp
SUMMARY:扇揚苑ショートステイ　相談
DESCRIPTION:
URL:https://www.iruma-oogi.or.jp/event/tribe_events-1337/
CATEGORIES:扇揚苑ショートステイ[相談]
END:VEVENT
BEGIN:VEVENT
DTSTART;VALUE=DATE:20260606
DTEND;VALUE=DATE:20260607
DTSTAMP:20260422T210838
CREATED:20260316T002526Z
LAST-MODIFIED:20260316T002526Z
UID:1341-1780704000-1780790399@www.iruma-oogi.or.jp
SUMMARY:扇揚苑ショートステイ　相談
DESCRIPTION:
URL:https://www.iruma-oogi.or.jp/event/tribe_events-1341/
CATEGORIES:扇揚苑ショートステイ[相談]
END:VEVENT
BEGIN:VEVENT
DTSTART;VALUE=DATE:20260609
DTEND;VALUE=DATE:20260611
DTSTAMP:20260422T210838
CREATED:20260421T021243Z
LAST-MODIFIED:20260421T021243Z
UID:1806-1780963200-1781135999@www.iruma-oogi.or.jp
SUMMARY:扇揚苑ショートステイ　相談
DESCRIPTION:
URL:https://www.iruma-oogi.or.jp/event/tribe_events-1806/
CATEGORIES:扇揚苑ショートステイ[相談]
END:VEVENT
BEGIN:VEVENT
DTSTART;VALUE=DATE:20260621
DTEND;VALUE=DATE:20260622
DTSTAMP:20260422T210838
CREATED:20260316T002937Z
LAST-MODIFIED:20260316T002937Z
UID:1357-1782000000-1782086399@www.iruma-oogi.or.jp
SUMMARY:扇揚苑ショートステイ　相談
DESCRIPTION:
URL:https://www.iruma-oogi.or.jp/event/tribe_events-1357/
CATEGORIES:扇揚苑ショートステイ[相談]
END:VEVENT
BEGIN:VEVENT
DTSTART;VALUE=DATE:20260623
DTEND;VALUE=DATE:20260626
DTSTAMP:20260422T210838
CREATED:20260421T021625Z
LAST-MODIFIED:20260421T021625Z
UID:1810-1782172800-1782431999@www.iruma-oogi.or.jp
SUMMARY:扇揚苑ショートステイ　相談
DESCRIPTION:
URL:https://www.iruma-oogi.or.jp/event/tribe_events-1810/
CATEGORIES:扇揚苑ショートステイ[相談]
END:VEVENT
BEGIN:VEVENT
DTSTART;VALUE=DATE:20260628
DTEND;VALUE=DATE:20260630
DTSTAMP:20260422T210838
CREATED:20260316T003142Z
LAST-MODIFIED:20260407T022057Z
UID:1369-1782604800-1782777599@www.iruma-oogi.or.jp
SUMMARY:扇揚苑ショートステイ　相談
DESCRIPTION:
URL:https://www.iruma-oogi.or.jp/event/tribe_events-1369/
CATEGORIES:扇揚苑ショートステイ[相談]
END:VEVENT
END:VCALENDAR