BEGIN:VCALENDAR
VERSION:2.0
PRODID:-//社会福祉法人 入間福祉会 - ECPv6.15.5//NONSGML v1.0//EN
CALSCALE:GREGORIAN
METHOD:PUBLISH
X-WR-CALNAME:社会福祉法人 入間福祉会
X-ORIGINAL-URL:https://www.iruma-oogi.or.jp
X-WR-CALDESC:社会福祉法人 入間福祉会 のイベント
REFRESH-INTERVAL;VALUE=DURATION:PT1H
X-Robots-Tag:noindex
X-PUBLISHED-TTL:PT1H
BEGIN:VTIMEZONE
TZID:Asia/Tokyo
BEGIN:STANDARD
TZOFFSETFROM:+0900
TZOFFSETTO:+0900
TZNAME:JST
DTSTART:20260101T000000
END:STANDARD
END:VTIMEZONE
BEGIN:VEVENT
DTSTART;VALUE=DATE:20260409
DTEND;VALUE=DATE:20260411
DTSTAMP:20260423T071430
CREATED:20260331T063412Z
LAST-MODIFIED:20260331T063412Z
UID:1466-1775692800-1775865599@www.iruma-oogi.or.jp
SUMMARY:おおぎショートステイ　空きあり
DESCRIPTION:
URL:https://www.iruma-oogi.or.jp/event/tribe_events-1466/
CATEGORIES:おおぎショートステイ[空きあり]
END:VEVENT
BEGIN:VEVENT
DTSTART;VALUE=DATE:20260424
DTEND;VALUE=DATE:20260425
DTSTAMP:20260423T071430
CREATED:20260421T022326Z
LAST-MODIFIED:20260421T022326Z
UID:1815-1776988800-1777075199@www.iruma-oogi.or.jp
SUMMARY:おおぎショートステイ　空きあり
DESCRIPTION:
URL:https://www.iruma-oogi.or.jp/event/tribe_events-1815/
CATEGORIES:おおぎショートステイ[空きあり]
END:VEVENT
BEGIN:VEVENT
DTSTART;VALUE=DATE:20260427
DTEND;VALUE=DATE:20260428
DTSTAMP:20260423T071430
CREATED:20260301T234340Z
LAST-MODIFIED:20260421T022640Z
UID:1169-1777248000-1777334399@www.iruma-oogi.or.jp
SUMMARY:おおぎショートステイ　空きあり
DESCRIPTION:
URL:https://www.iruma-oogi.or.jp/event/tribe_events-1169/
CATEGORIES:おおぎショートステイ[空きあり]
END:VEVENT
BEGIN:VEVENT
DTSTART;VALUE=DATE:20260430
DTEND;VALUE=DATE:20260501
DTSTAMP:20260423T071430
CREATED:20260301T234401Z
LAST-MODIFIED:20260421T022753Z
UID:1171-1777507200-1777593599@www.iruma-oogi.or.jp
SUMMARY:おおぎショートステイ　空きあり
DESCRIPTION:
URL:https://www.iruma-oogi.or.jp/event/tribe_events-1171/
CATEGORIES:おおぎショートステイ[空きあり]
END:VEVENT
BEGIN:VEVENT
DTSTART;VALUE=DATE:20260501
DTEND;VALUE=DATE:20260503
DTSTAMP:20260423T071430
CREATED:20260301T234530Z
LAST-MODIFIED:20260301T234530Z
UID:1173-1777593600-1777766399@www.iruma-oogi.or.jp
SUMMARY:おおぎショートステイ　空きあり
DESCRIPTION:
URL:https://www.iruma-oogi.or.jp/event/tribe_events-1173/
CATEGORIES:おおぎショートステイ[空きあり]
END:VEVENT
BEGIN:VEVENT
DTSTART;VALUE=DATE:20260507
DTEND;VALUE=DATE:20260516
DTSTAMP:20260423T071430
CREATED:20260301T234634Z
LAST-MODIFIED:20260331T071201Z
UID:1179-1778112000-1778889599@www.iruma-oogi.or.jp
SUMMARY:おおぎショートステイ　空きあり
DESCRIPTION:
URL:https://www.iruma-oogi.or.jp/event/tribe_events-1179/
CATEGORIES:おおぎショートステイ[空きあり]
END:VEVENT
BEGIN:VEVENT
DTSTART;VALUE=DATE:20260520
DTEND;VALUE=DATE:20260523
DTSTAMP:20260423T071430
CREATED:20260301T234811Z
LAST-MODIFIED:20260421T023200Z
UID:1187-1779235200-1779494399@www.iruma-oogi.or.jp
SUMMARY:おおぎショートステイ　空きあり
DESCRIPTION:
URL:https://www.iruma-oogi.or.jp/event/tribe_events-1187/
CATEGORIES:おおぎショートステイ[空きあり]
END:VEVENT
BEGIN:VEVENT
DTSTART;VALUE=DATE:20260528
DTEND;VALUE=DATE:20260531
DTSTAMP:20260423T071430
CREATED:20260331T070847Z
LAST-MODIFIED:20260331T071815Z
UID:1496-1779926400-1780185599@www.iruma-oogi.or.jp
SUMMARY:おおぎショートステイ　空きあり
DESCRIPTION:
URL:https://www.iruma-oogi.or.jp/event/tribe_events-1496/
CATEGORIES:おおぎショートステイ[空きあり]
END:VEVENT
BEGIN:VEVENT
DTSTART;VALUE=DATE:20260603
DTEND;VALUE=DATE:20260606
DTSTAMP:20260423T071430
CREATED:20260331T072326Z
LAST-MODIFIED:20260421T024118Z
UID:1511-1780444800-1780703999@www.iruma-oogi.or.jp
SUMMARY:おおぎショートステイ　空きあり
DESCRIPTION:
URL:https://www.iruma-oogi.or.jp/event/tribe_events-1511/
CATEGORIES:おおぎショートステイ[空きあり]
END:VEVENT
BEGIN:VEVENT
DTSTART;VALUE=DATE:20260608
DTEND;VALUE=DATE:20260610
DTSTAMP:20260423T071430
CREATED:20260331T072432Z
LAST-MODIFIED:20260331T072432Z
UID:1515-1780876800-1781049599@www.iruma-oogi.or.jp
SUMMARY:おおぎショートステイ　空きあり
DESCRIPTION:
URL:https://www.iruma-oogi.or.jp/event/tribe_events-1515/
CATEGORIES:おおぎショートステイ[空きあり]
END:VEVENT
BEGIN:VEVENT
DTSTART;VALUE=DATE:20260611
DTEND;VALUE=DATE:20260620
DTSTAMP:20260423T071430
CREATED:20260331T072547Z
LAST-MODIFIED:20260331T072547Z
UID:1519-1781136000-1781913599@www.iruma-oogi.or.jp
SUMMARY:おおぎショートステイ　空きあり
DESCRIPTION:
URL:https://www.iruma-oogi.or.jp/event/tribe_events-1519/
CATEGORIES:おおぎショートステイ[空きあり]
END:VEVENT
BEGIN:VEVENT
DTSTART;VALUE=DATE:20260622
DTEND;VALUE=DATE:20260628
DTSTAMP:20260423T071430
CREATED:20260331T072925Z
LAST-MODIFIED:20260421T024916Z
UID:1523-1782086400-1782604799@www.iruma-oogi.or.jp
SUMMARY:おおぎショートステイ　空きあり
DESCRIPTION:
URL:https://www.iruma-oogi.or.jp/event/tribe_events-1523/
CATEGORIES:おおぎショートステイ[空きあり]
END:VEVENT
BEGIN:VEVENT
DTSTART;VALUE=DATE:20260630
DTEND;VALUE=DATE:20260701
DTSTAMP:20260423T071430
CREATED:20260421T024528Z
LAST-MODIFIED:20260421T024528Z
UID:1857-1782777600-1782863999@www.iruma-oogi.or.jp
SUMMARY:おおぎショートステイ　空きあり
DESCRIPTION:
URL:https://www.iruma-oogi.or.jp/event/tribe_events-1857/
CATEGORIES:おおぎショートステイ[空きあり]
END:VEVENT
END:VCALENDAR