BEGIN:VCALENDAR
VERSION:2.0
PRODID:-//社会福祉法人 入間福祉会 - ECPv6.15.5//NONSGML v1.0//EN
CALSCALE:GREGORIAN
METHOD:PUBLISH
X-ORIGINAL-URL:https://www.iruma-oogi.or.jp
X-WR-CALDESC:社会福祉法人 入間福祉会 のイベント
REFRESH-INTERVAL;VALUE=DURATION:PT1H
X-Robots-Tag:noindex
X-PUBLISHED-TTL:PT1H
BEGIN:VTIMEZONE
TZID:Asia/Tokyo
BEGIN:STANDARD
TZOFFSETFROM:+0900
TZOFFSETTO:+0900
TZNAME:JST
DTSTART:20260101T000000
END:STANDARD
END:VTIMEZONE
BEGIN:VEVENT
DTSTART;VALUE=DATE:20260526
DTEND;VALUE=DATE:20260527
DTSTAMP:20260422T175812
CREATED:20260331T070712Z
LAST-MODIFIED:20260421T023410Z
UID:1492-1779753600-1779839999@www.iruma-oogi.or.jp
SUMMARY:おおぎショートステイ　相談
DESCRIPTION:
URL:https://www.iruma-oogi.or.jp/event/tribe_events-1492/
CATEGORIES:おおぎショートステイ[相談]
END:VEVENT
BEGIN:VEVENT
DTSTART;VALUE=DATE:20260531
DTEND;VALUE=DATE:20260601
DTSTAMP:20260422T175812
CREATED:20260331T071904Z
LAST-MODIFIED:20260331T071904Z
UID:1505-1780185600-1780271999@www.iruma-oogi.or.jp
SUMMARY:おおぎショートステイ　相談
DESCRIPTION:
URL:https://www.iruma-oogi.or.jp/event/tribe_events-1505/
CATEGORIES:おおぎショートステイ[相談]
END:VEVENT
BEGIN:VEVENT
DTSTART;VALUE=DATE:20260606
DTEND;VALUE=DATE:20260607
DTSTAMP:20260422T175812
CREATED:20260421T024210Z
LAST-MODIFIED:20260421T024210Z
UID:1844-1780704000-1780790399@www.iruma-oogi.or.jp
SUMMARY:おおぎショートステイ　相談
DESCRIPTION:
URL:https://www.iruma-oogi.or.jp/event/tribe_events-1844/
CATEGORIES:おおぎショートステイ[相談]
END:VEVENT
BEGIN:VEVENT
DTSTART;VALUE=DATE:20260610
DTEND;VALUE=DATE:20260611
DTSTAMP:20260422T175812
CREATED:20260331T072507Z
LAST-MODIFIED:20260331T072507Z
UID:1517-1781049600-1781135999@www.iruma-oogi.or.jp
SUMMARY:おおぎショートステイ　相談
DESCRIPTION:
URL:https://www.iruma-oogi.or.jp/event/tribe_events-1517/
CATEGORIES:おおぎショートステイ[相談]
END:VEVENT
BEGIN:VEVENT
DTSTART;VALUE=DATE:20260620
DTEND;VALUE=DATE:20260622
DTSTAMP:20260422T175812
CREATED:20260331T072845Z
LAST-MODIFIED:20260421T024822Z
UID:1521-1781913600-1782086399@www.iruma-oogi.or.jp
SUMMARY:おおぎショートステイ　相談
DESCRIPTION:
URL:https://www.iruma-oogi.or.jp/event/tribe_events-1521/
CATEGORIES:おおぎショートステイ[相談]
END:VEVENT
BEGIN:VEVENT
DTSTART;VALUE=DATE:20260628
DTEND;VALUE=DATE:20260629
DTSTAMP:20260422T175812
CREATED:20260421T024436Z
LAST-MODIFIED:20260421T024436Z
UID:1849-1782604800-1782691199@www.iruma-oogi.or.jp
SUMMARY:おおぎショートステイ　相談
DESCRIPTION:
URL:https://www.iruma-oogi.or.jp/event/tribe_events-1849/
CATEGORIES:おおぎショートステイ[相談]
END:VEVENT
END:VCALENDAR